BEGIN:VCALENDAR
VERSION:2.0
PRODID:-//Cure SMA Canada - ECPv6.15.20//NONSGML v1.0//EN
CALSCALE:GREGORIAN
METHOD:PUBLISH
X-ORIGINAL-URL:https://curesma.ca
X-WR-CALDESC:Events for Cure SMA Canada
REFRESH-INTERVAL;VALUE=DURATION:PT1H
X-Robots-Tag:noindex
X-PUBLISHED-TTL:PT1H
BEGIN:VTIMEZONE
TZID:UTC
BEGIN:STANDARD
TZOFFSETFROM:+0000
TZOFFSETTO:+0000
TZNAME:UTC
DTSTART:20240101T000000
END:STANDARD
END:VTIMEZONE
BEGIN:VEVENT
DTSTART;VALUE=DATE:20250821
DTEND;VALUE=DATE:20250825
DTSTAMP:20260422T210245
CREATED:20250310T165558Z
LAST-MODIFIED:20250623T154541Z
UID:4350-1755734400-1756079999@curesma.ca
SUMMARY:2025 SMA Camp East
DESCRIPTION:Camp Massawippi (East) \nAyer’s Cliff\, QC \nAugust 21 – 24 \nSponsored by:\n\n\n\n\nDIAMOND\n\n\nPLATINIUM\n\n\nGOLD\nNone
URL:https://curesma.ca/event/2025-sma-camp-east/
LOCATION:Camp Massawippi\, Ayer's Cliff\, Quebec\, Canada
CATEGORIES:Camp
END:VEVENT
BEGIN:VEVENT
DTSTART;VALUE=DATE:20250807
DTEND;VALUE=DATE:20250814
DTSTAMP:20260422T210245
CREATED:20250310T165331Z
LAST-MODIFIED:20250623T154439Z
UID:4347-1754524800-1755129599@curesma.ca
SUMMARY:2025 SMA Camp West
DESCRIPTION:Camp Hope (West) \nHope\, BC \nAugust 7 – 13 2025 \nSponsored by:\n\n\n\n\nDIAMOND\n\n\nPLATINIUM\n\n\nGOLD\nNone
URL:https://curesma.ca/event/2025-sma-camp-west/
LOCATION:Camp Hope: Hope\, BC\, Hope\, British Columbia\, Canada
CATEGORIES:Camp
END:VEVENT
END:VCALENDAR