BEGIN:VCALENDAR
VERSION:2.0
PRODID:-//Cure SMA Canada - ECPv6.15.20//NONSGML v1.0//EN
CALSCALE:GREGORIAN
METHOD:PUBLISH
X-ORIGINAL-URL:https://curesma.ca
X-WR-CALDESC:Events for Cure SMA Canada
REFRESH-INTERVAL;VALUE=DURATION:PT1H
X-Robots-Tag:noindex
X-PUBLISHED-TTL:PT1H
BEGIN:VTIMEZONE
TZID:UTC
BEGIN:STANDARD
TZOFFSETFROM:+0000
TZOFFSETTO:+0000
TZNAME:UTC
DTSTART:20250101T000000
END:STANDARD
END:VTIMEZONE
BEGIN:VEVENT
DTSTART;VALUE=DATE:20260502
DTEND;VALUE=DATE:20260503
DTSTAMP:20260422T141300
CREATED:20260415T205149Z
LAST-MODIFIED:20260415T205317Z
UID:4435-1777680000-1777766399@curesma.ca
SUMMARY:2026 Sammy's Gala
DESCRIPTION:Sammy’s Gala is an annual fundraiser based in Montreal inspired by Sammy\, a 25-year-old living with Spinal Muscular Atrophy (SMA). Over the past 20 years\, Sammy’s Gala has raised over $2 million\, with all proceeds benefiting Cure SMA Canada. \nGet my ticket now \n  \nSponsored by:\n\n\n\n\nDIAMOND\n\n\nPLATINIUM\nNone \n\n\nGOLD
URL:https://curesma.ca/event/2026-sammys-gala/
LOCATION:Plaza Volare Conference Center\, Saint-Laurent Montreal\, 6600 Chem. de la Côte-de-Liesse\, Saint-Laurent\, Québec\, H4T 1E3\, Canada
END:VEVENT
BEGIN:VEVENT
DTSTART;VALUE=DATE:20260605
DTEND;VALUE=DATE:20260606
DTSTAMP:20260422T141300
CREATED:20260415T205714Z
LAST-MODIFIED:20260415T205714Z
UID:4439-1780617600-1780703999@curesma.ca
SUMMARY:2026 Light the Night
DESCRIPTION:“Dance for a difference – Cure SMA Canada\nJune 5th come join the party with a DJ playing the best dance hits. Expect to dance all night while supporting Canadian families with SMA.” \nGet my ticket now \n  \nSponsored by:\n\n\n\n\nDIAMOND\nNone \n\n\nPLATINIUM\nNone \n\n\nGOLD
URL:https://curesma.ca/event/2026-light-the-night/
LOCATION:Heritage Park\, 44140 Luckakuck Way\, Chilliwack\, BC\, V2R 4A7\, Canada
END:VEVENT
BEGIN:VEVENT
DTSTART;VALUE=DATE:20260704
DTEND;VALUE=DATE:20260705
DTSTAMP:20260422T141300
CREATED:20260415T205954Z
LAST-MODIFIED:20260415T205954Z
UID:4442-1783123200-1783209599@curesma.ca
SUMMARY:2026 Rebecca Run - 25th Anniversary
DESCRIPTION:The Rebecca Run provides an outstanding opportunity for Canada’s SMA community as well as the general public to participate in a major event that will benefit Cure SMA Canada initiatives which ultimately improves the quality of life for Canada’s Spinal Muscular Atrophy patients and their families. \nGet my ticket now \n  \nSponsored by:\n\n\n\n\nDIAMOND\n \n\n\nPLATINIUM\n \n\n\nGOLD
URL:https://curesma.ca/event/2026-rebecca-run-25th-anniversary/
LOCATION:Fairy Lake\, Newmarket\, ON\, 520 Water Street\, Newmarket\, Ontario\, L3Y 1M5\, Canada
END:VEVENT
BEGIN:VEVENT
DTSTART;VALUE=DATE:20260724
DTEND;VALUE=DATE:20260727
DTSTAMP:20260422T141300
CREATED:20260415T210219Z
LAST-MODIFIED:20260415T210219Z
UID:4444-1784851200-1785110399@curesma.ca
SUMMARY:2026 Canadian National Conference
DESCRIPTION:Join us for an inspiring and informative experience at the Cure SMA Canada 2026 National Conference. This event offers a unique opportunity to connect with individuals\, families\, researchers\, and healthcare professionals who are dedicated to the fight against Spinal Muscular Atrophy (SMA). \nGet my ticket now \n  \nSponsored by:\n\n\n\n\nDIAMOND\n \n\n\nPLATINIUM\nNone \n\n\nGOLD
URL:https://curesma.ca/event/2026-canadian-national-conference/
LOCATION:Sheraton Center\, Toronto Ontario\, Toronto\, Ontario\, Canada
END:VEVENT
BEGIN:VEVENT
DTSTART;VALUE=DATE:20260813
DTEND;VALUE=DATE:20260818
DTSTAMP:20260422T141300
CREATED:20260415T210416Z
LAST-MODIFIED:20260415T210416Z
UID:4446-1786579200-1787011199@curesma.ca
SUMMARY:2026 Camp Hope - West
DESCRIPTION:Sponsored by:\n\n\n\n\nDIAMOND\n \n\n\nPLATINIUM\nNone \n\n\nGOLD\nNone
URL:https://curesma.ca/event/2026-camp-hope-west/
LOCATION:Camp Hope: Hope\, BC\, Hope\, British Columbia\, Canada
END:VEVENT
BEGIN:VEVENT
DTSTART;VALUE=DATE:20260820
DTEND;VALUE=DATE:20260824
DTSTAMP:20260422T141300
CREATED:20260415T210529Z
LAST-MODIFIED:20260415T210641Z
UID:4449-1787184000-1787529599@curesma.ca
SUMMARY:2026 Camp Massawippi - East
DESCRIPTION:Sponsored by:\n\n\n\n\nDIAMOND\n \n\n\nPLATINIUM\nNone \n\n\nGOLD\nNone \n\n\n\n\n 
URL:https://curesma.ca/event/2026-camp-massawippi-east/
LOCATION:Camp Massawippi\, Ayer's Cliff\, Quebec\, Canada
END:VEVENT
END:VCALENDAR