BEGIN:VCALENDAR
VERSION:2.0
PRODID:-//Cure SMA Canada - ECPv6.15.20//NONSGML v1.0//EN
CALSCALE:GREGORIAN
METHOD:PUBLISH
X-ORIGINAL-URL:https://curesma.ca
X-WR-CALDESC:Events for Cure SMA Canada
REFRESH-INTERVAL;VALUE=DURATION:PT1H
X-Robots-Tag:noindex
X-PUBLISHED-TTL:PT1H
BEGIN:VTIMEZONE
TZID:UTC
BEGIN:STANDARD
TZOFFSETFROM:+0000
TZOFFSETTO:+0000
TZNAME:UTC
DTSTART:20220101T000000
END:STANDARD
END:VTIMEZONE
BEGIN:VEVENT
DTSTART;VALUE=DATE:20230604
DTEND;VALUE=DATE:20230806
DTSTAMP:20260422T170730
CREATED:20230427T174628Z
LAST-MODIFIED:20230427T174628Z
UID:3154-1685836800-1691279999@curesma.ca
SUMMARY:Tour de SMAlik
DESCRIPTION:Cross country cycling tour.
URL:https://curesma.ca/event/tour-de-smalik/
END:VEVENT
END:VCALENDAR